BEGIN:VCALENDAR
VERSION:2.0
PRODID:-//ExpressionEngine Easy iCalendar plugin//NONSGML v2.0.1//EN
X-WR-TIMEZONE:America/Chicago
X-WR-CALNAME:Upcoming Auctions
BEGIN:VEVENT
UID:145637
DTSTAMP:20250805T070000
DTSTART:20250805T070000
DTEND:20250818T150000
SUMMARY:Lumber\; Cedar\, Pine and More
LOCATION:19150 Territorial Road\, Maple Grove\, MN 55369\, US
DESCRIPTION:Lumber: Cedar\, Pine and More. Tongue and Groove\, Fascia and 
 More.
URL:https://www.auctionmasters.com/auctions/detail/bw145637
SEQUENCE:1
END:VEVENT
END:VCALENDAR