BEGIN:VCALENDAR
VERSION:2.0
PRODID:-//ExpressionEngine Easy iCalendar plugin//NONSGML v2.0.1//EN
X-WR-TIMEZONE:America/Chicago
X-WR-CALNAME:Upcoming Auctions
BEGIN:VEVENT
UID:145638
DTSTAMP:20250801T140000
DTSTART:20250801T140000
DTEND:20250820T130000
SUMMARY:Mini Excavators\, Skid Attachments & 40' Container
LOCATION:19150 Territorial Road\, Maple Grove\, MN 55369\, US
DESCRIPTION:13 Mini Excavators\, Skid Steer Attachments (Seeder\, Forks) a
 nd 40' Shipping Container.
URL:https://www.auctionmasters.com/auctions/detail/bw145638
SEQUENCE:1
END:VEVENT
END:VCALENDAR