BEGIN:VCALENDAR
VERSION:2.0
PRODID:-//ExpressionEngine Easy iCalendar plugin//NONSGML v2.0.1//EN
X-WR-TIMEZONE:America/Chicago
X-WR-CALNAME:Upcoming Auctions
BEGIN:VEVENT
UID:145845
DTSTAMP:20250808T090000
DTSTART:20250808T090000
DTEND:20250827T130000
SUMMARY:Automotive Tools/Parts\, Case Skid Steer & More
LOCATION:5410 International Pkwy\, New Hope\, MN 55428\, US
DESCRIPTION:Automotive Restoration Shop:  Auto Tools\, Case Skid Steer\, 
 2 Clark Forklifts\, Vintage Auto Parts\, Material Handling\, Me
 tal Stock\, Manuals and More.
URL:https://www.auctionmasters.com/auctions/detail/bw145845
SEQUENCE:1
END:VEVENT
END:VCALENDAR