BEGIN:VCALENDAR
VERSION:2.0
PRODID:-//ExpressionEngine Easy iCalendar plugin//NONSGML v2.0.1//EN
X-WR-TIMEZONE:America/Chicago
X-WR-CALNAME:Upcoming Auctions
BEGIN:VEVENT
UID:146240
DTSTAMP:20250819T090000
DTSTART:20250819T090000
DTEND:20250903T130000
SUMMARY:CNC Machines\, Tools & More
LOCATION:12560 Lockridge Ave N\, Stillwater\, MN 55082\, US
DESCRIPTION:CNC Machines\, Metal/Woodworking Tools\, Welders/Plasma Cutter
  and Related\, Lawn Tractors\, Shipping Container\, Hand/Power 
 Tools\, 12 Ga./9mm Ammo\, Gun Safe and More.
URL:https://www.auctionmasters.com/auctions/detail/bw146240
SEQUENCE:1
END:VEVENT
END:VCALENDAR