BEGIN:VCALENDAR
VERSION:2.0
PRODID:-//ExpressionEngine Easy iCalendar plugin//NONSGML v2.0.1//EN
X-WR-TIMEZONE:America/Chicago
X-WR-CALNAME:Upcoming Auctions
BEGIN:VEVENT
UID:146352
DTSTAMP:20250908T100000
DTSTART:20250908T100000
DTEND:20250915T130000
SUMMARY:Engine Rebuild Shop: Tools/Equipment\, Skid Steer & More
LOCATION:923 Randolph Ave\, St Paul\, MN 55102\, US
DESCRIPTION:Engine Rebuild Shop: Skid Steer\, Automotive Tools\, Shop Equi
 pment\, Tool Cabinets\, Small Engine Parts/Hardware\, Material 
 Handling\, Shelving and More.
URL:https://www.auctionmasters.com/auctions/detail/bw146352
SEQUENCE:1
END:VEVENT
END:VCALENDAR