BEGIN:VCALENDAR
VERSION:2.0
PRODID:-//ExpressionEngine Easy iCalendar plugin//NONSGML v2.0.1//EN
X-WR-TIMEZONE:America/Chicago
X-WR-CALNAME:Upcoming Auctions
BEGIN:VEVENT
UID:146430
DTSTAMP:20250905T080000
DTSTART:20250905T080000
DTEND:20250924T130000
SUMMARY:Packaging/Warehouse Equipment\, Material Handling & More
LOCATION:500 South 59th Ave W\, Duluth\, MN 55807\, US
DESCRIPTION:Packaging/Warehouse Equipment: Bandsaws\, Table Saw\, Dust Col
 lectors\, Air Compressors\, Toyota Forklift\, Cardboard Equipme
 nt (Presses\, Glue Rollers)\, Pallet Shrink Wrapper\, Pallet Ja
 cks\, Banding Carts\, Hot Glue Machines\, Heat Sealers\, Roller 
 Conveyors\, Office Related and More.
URL:https://www.auctionmasters.com/auctions/detail/bw146430
SEQUENCE:1
END:VEVENT
END:VCALENDAR