BEGIN:VCALENDAR
VERSION:2.0
PRODID:-//ExpressionEngine Easy iCalendar plugin//NONSGML v2.0.1//EN
X-WR-TIMEZONE:America/Chicago
X-WR-CALNAME:Upcoming Auctions
BEGIN:VEVENT
UID:146720
DTSTAMP:20250912T090000
DTSTART:20250912T090000
DTEND:20250922T130000
SUMMARY:Commercial/Industrial Concrete Construction Company
LOCATION:11531 Rupp Drive\, Burnsville\, MN 55337\, US
DESCRIPTION:Commercial/Industrial Concrete Construction Company Liquidat
 ion: Telehandlers\, Trailers\, Scissors Lifts\, Concrete Equipm
 ent\, Flooring Equipment\, Dust Extractors\, General Tools\, Gen
 erators\, Pumps\, Scaffolding\, Ladders\, Pallet Racking/Cantile
 ver Racking\, Material Handling\, Rigging Equipment\, Auto Hois
 t\, Gang Boxes\, Construction Heaters\, Safety Equipment\, Laser
  Levels/Survey Equipment\, Inventory\, Lumber\, Shop Supplies\,
  Office/Breakroom\, Much More.
URL:https://www.auctionmasters.com/auctions/detail/bw146720
SEQUENCE:1
END:VEVENT
END:VCALENDAR