BEGIN:VCALENDAR
VERSION:2.0
PRODID:-//ExpressionEngine Easy iCalendar plugin//NONSGML v2.0.1//EN
X-WR-TIMEZONE:America/Chicago
X-WR-CALNAME:Upcoming Auctions
BEGIN:VEVENT
UID:146755
DTSTAMP:20250822T140000
DTSTART:20250822T140000
DTEND:20250910T130000
SUMMARY:Mini Excavators\, Attachments & 40' Container
LOCATION:19150 Territorial Road\, Maple Grove\, MN 55369\, US
DESCRIPTION:10 Mini Excavators\, Attachments and 40' Shipping Container.
URL:https://www.auctionmasters.com/auctions/detail/bw146755
SEQUENCE:1
END:VEVENT
END:VCALENDAR