BEGIN:VCALENDAR
VERSION:2.0
PRODID:-//ExpressionEngine Easy iCalendar plugin//NONSGML v2.0.1//EN
X-WR-TIMEZONE:America/Chicago
X-WR-CALNAME:Upcoming Auctions
BEGIN:VEVENT
UID:146757
DTSTAMP:20250829T080000
DTSTART:20250829T080000
DTEND:20250910T150000
SUMMARY:Lumber: Fascia and More.
LOCATION:19150 Territorial Road\, Maple Grove\, MN 55369\, US
DESCRIPTION:44 Pallets Lumber: Fascia and More.
URL:https://www.auctionmasters.com/auctions/detail/bw146757
SEQUENCE:1
END:VEVENT
END:VCALENDAR