BEGIN:VCALENDAR
VERSION:2.0
PRODID:-//ExpressionEngine Easy iCalendar plugin//NONSGML v2.0.1//EN
X-WR-TIMEZONE:America/Chicago
X-WR-CALNAME:Upcoming Auctions
BEGIN:VEVENT
UID:147350
DTSTAMP:20250908T130000
DTSTART:20250908T130000
DTEND:20250917T130000
SUMMARY:Psycho Suzi's Christmas and Holiday Decor Plus More
LOCATION:3829 Jefferson St NE\, Minneapolis\, MN 55421\, US
DESCRIPTION:Psycho Suzi's Christmas and Holiday Decor\, Halloween Decor\, 
 Day of the Dead Decor\, Tiki Tram Bus\, Floating Tiki Bar\, Sku
 tt Kiln and More.
URL:https://www.auctionmasters.com/auctions/detail/bw147350
SEQUENCE:1
END:VEVENT
END:VCALENDAR