BEGIN:VCALENDAR
VERSION:2.0
PRODID:-//ExpressionEngine Easy iCalendar plugin//NONSGML v2.0.1//EN
X-WR-TIMEZONE:America/Chicago
X-WR-CALNAME:Upcoming Auctions
BEGIN:VEVENT
UID:147351
DTSTAMP:20250918T140000
DTSTART:20250918T140000
DTEND:20251001T130000
SUMMARY:Trucks\, Cars\, Recreational Vehicles & More
LOCATION:16428 117th Ave\, Milaca\, MN 56353\, US
DESCRIPTION:Trucks\, Cars\, Recreational Vehicles: Trucks\, Cars\, SUVs\, Mot
 orcycles/Scooters\, ATVs\, Golf Cart\, Travel Trailers/Motorhom
 e\, Boats\, Jet Skis\, Vintage Jeeps\, Lawn Tractors and More.
URL:https://www.auctionmasters.com/auctions/detail/bw147351
SEQUENCE:1
END:VEVENT
END:VCALENDAR