BEGIN:VCALENDAR
VERSION:2.0
PRODID:-//ExpressionEngine Easy iCalendar plugin//NONSGML v2.0.1//EN
X-WR-TIMEZONE:America/Chicago
X-WR-CALNAME:Upcoming Auctions
BEGIN:VEVENT
UID:147395
DTSTAMP:20250910T090000
DTSTART:20250910T090000
DTEND:20250922T150000
SUMMARY:Wood Flooring\, Hardwood & More
LOCATION:19150 Territorial Road\, Maple Grove\, MN 55369\, US
DESCRIPTION:Red Oak Flooring\, Hardwood Sheets\, Veneer\, T&G Flooring and 
 More.
URL:https://www.auctionmasters.com/auctions/detail/bw147395
SEQUENCE:1
END:VEVENT
END:VCALENDAR