BEGIN:VCALENDAR
VERSION:2.0
PRODID:-//ExpressionEngine Easy iCalendar plugin//NONSGML v2.0.1//EN
X-WR-TIMEZONE:America/Chicago
X-WR-CALNAME:Upcoming Auctions
BEGIN:VEVENT
UID:147401
DTSTAMP:20251010T080000
DTSTART:20251010T080000
DTEND:20251020T130000
SUMMARY:Arcade Amusement\, Vending & More
LOCATION:2941 Coon Rapids Blvd NW\, Coon Rapids\, MN 55433\, US
DESCRIPTION:Arcade Amusement and Vending: Pinball\, Dart Boards\, Video Ga
 mes\, Bubble Hockey\, Foosball\, Ticket/Price Redemption Games\,
  Crane/Claw Machines\, Speakers\, Vending Machines and More. L
 ocated at Grand Slam in Coon Rapids\, but Grand Slam is NOT g
 oing out of business!
URL:https://www.auctionmasters.com/auctions/detail/bw147401
SEQUENCE:1
END:VEVENT
END:VCALENDAR