BEGIN:VCALENDAR
VERSION:2.0
PRODID:-//ExpressionEngine Easy iCalendar plugin//NONSGML v2.0.1//EN
X-WR-TIMEZONE:America/Chicago
X-WR-CALNAME:Upcoming Auctions
BEGIN:VEVENT
UID:148114
DTSTAMP:20250916T070000
DTSTART:20250916T070000
DTEND:20250923T183000
SUMMARY:Trees: Black Hills\, White Pines\, More
LOCATION:19150 Territorial Road\, Maple Grove\, MN 55369\, US
DESCRIPTION:90+ Trees: Black Hills Spruce\, White Pines and Balsam Fir.
URL:https://www.auctionmasters.com/auctions/detail/bw148114
SEQUENCE:1
END:VEVENT
END:VCALENDAR