BEGIN:VCALENDAR
VERSION:2.0
PRODID:-//ExpressionEngine Easy iCalendar plugin//NONSGML v2.0.1//EN
X-WR-TIMEZONE:America/Chicago
X-WR-CALNAME:Upcoming Auctions
BEGIN:VEVENT
UID:148972
DTSTAMP:20250924T110000
DTSTART:20250924T110000
DTEND:20251001T150000
SUMMARY:Lumber
LOCATION:19150 Territorial Road\, Maple Grove\, MN 55369\, US
DESCRIPTION:20+ Pallets Fascia Lumber
URL:https://www.auctionmasters.com/auctions/detail/bw148972
SEQUENCE:1
END:VEVENT
END:VCALENDAR