BEGIN:VCALENDAR
VERSION:2.0
PRODID:-//ExpressionEngine Easy iCalendar plugin//NONSGML v2.0.1//EN
X-WR-TIMEZONE:America/Chicago
X-WR-CALNAME:Upcoming Auctions
BEGIN:VEVENT
UID:149097
DTSTAMP:20250929T150000
DTSTART:20250929T150000
DTEND:20251006T130000
SUMMARY:Playground Structures
LOCATION:3129 Abbott Ave N\, Robbinsdale\, MN 55422\, US
DESCRIPTION:Little Tikes Commercial Playground Structures\, Swing Sets an
 d Spring Rockers
URL:https://www.auctionmasters.com/auctions/detail/bw149097
SEQUENCE:1
END:VEVENT
END:VCALENDAR