BEGIN:VCALENDAR
VERSION:2.0
PRODID:-//ExpressionEngine Easy iCalendar plugin//NONSGML v2.0.1//EN
X-WR-TIMEZONE:America/Chicago
X-WR-CALNAME:Upcoming Auctions
BEGIN:VEVENT
UID:150658
DTSTAMP:20251112T100000
DTSTART:20251112T100000
DTEND:20251118T100000
SUMMARY:Model Home Furniture\, Home Goods & More
LOCATION:19150 Territorial Road\, Maple Grove\, MN 55369\, US
DESCRIPTION:Model Home Furniture and Furnishings from Home Builders and 
 Staging Companies. Update your home with fantastic savings. 
 Living Room (Sofas\, Sectional\, Accent Chairs)\, Dining Room (
 Tables\, Chairs\, Hutches)\, Bedroom (Headboards\, Dressers\, Nig
 ht Stands\, Armoires)\, Accent Furniture (End/Sofa/Coffee Tabl
 es)\, Game Room/Rec\, Artwork\, Area Rugs. PLUS New Home Goods
  including Bedding/Linens\, Purses\, Luggage\, Clothing/Footwea
 r\, Home Decor\, Toys/RC Electronics\, Kitchen Goods and More.
URL:https://www.auctionmasters.com/auctions/detail/bw150658
SEQUENCE:1
END:VEVENT
END:VCALENDAR