BEGIN:VCALENDAR
VERSION:2.0
PRODID:-//ExpressionEngine Easy iCalendar plugin//NONSGML v2.0.1//EN
X-WR-TIMEZONE:America/Chicago
X-WR-CALNAME:Upcoming Auctions
BEGIN:VEVENT
UID:150659
DTSTAMP:20251027T130000
DTSTART:20251027T130000
DTEND:20251110T130000
SUMMARY:Brewery Equipment
LOCATION:896 Hersey St\, St Paul\, MN 55114\, US
DESCRIPTION:Brewery Equipment - Surplus from an ongoing operation: 10 BB
 L System\, Foeder Fermenter\, Boiler\, Kegerators\, SS Sinks\, Te
 nt\, Related Equipment and Supplies.
URL:https://www.auctionmasters.com/auctions/detail/bw150659
SEQUENCE:1
END:VEVENT
END:VCALENDAR