BEGIN:VCALENDAR
VERSION:2.0
PRODID:-//ExpressionEngine Easy iCalendar plugin//NONSGML v2.0.1//EN
X-WR-TIMEZONE:America/Chicago
X-WR-CALNAME:Upcoming Auctions
BEGIN:VEVENT
UID:150767
DTSTAMP:20251106T060000
DTSTART:20251106T060000
DTEND:20251117T130000
SUMMARY:Mesa Pizza Restaurant (Dinkytown)
LOCATION:1323 4th St SE\, Minneapolis\, MN 55414\, US
DESCRIPTION:Mesa Pizza Restaurant Equipment: Hobart 60 Qt Mixer\, Pizza O
 vens\, Refrigeration\, Kitchen Equipment\, SS Sinks/Tables\, She
 lving\, Smallwares\, Furniture\, Signs and More.
URL:https://www.auctionmasters.com/auctions/detail/bw150767
SEQUENCE:1
END:VEVENT
END:VCALENDAR