BEGIN:VCALENDAR
VERSION:2.0
PRODID:-//ExpressionEngine Easy iCalendar plugin//NONSGML v2.0.1//EN
X-WR-TIMEZONE:America/Chicago
X-WR-CALNAME:Upcoming Auctions
BEGIN:VEVENT
UID:150768
DTSTAMP:20251105T070000
DTSTART:20251105T070000
DTEND:20251116T130000
SUMMARY:New Mini Excavators\, Compact Equipment\, Attachments and More
LOCATION:19150 Territorial Road\, Maple Grove\, MN 55369\, US
DESCRIPTION:New Mini Excavators\, Compact Equipment\, Attachments\, Shippin
 g Containers\, Metal Sheds/Carports\, Welders\, Massage Chairs 
 and More.
URL:https://www.auctionmasters.com/auctions/detail/bw150768
SEQUENCE:1
END:VEVENT
END:VCALENDAR