BEGIN:VCALENDAR
VERSION:2.0
PRODID:-//ExpressionEngine Easy iCalendar plugin//NONSGML v2.0.1//EN
X-WR-TIMEZONE:America/Chicago
X-WR-CALNAME:Upcoming Auctions
BEGIN:VEVENT
UID:151143
DTSTAMP:20251030T100000
DTSTART:20251030T100000
DTEND:20251110T130000
SUMMARY:9 Work Vans\, Truck and Trailer (Bank Ordered)
LOCATION:19150 Territorial Road\, Maple Grove\, MN 55369\, US
DESCRIPTION:9 Work Vans (Ram Promasters\, Ford Econolines)\, Dodge Truck\, 
 Chevy Captiva and PJ Equipment Trailer - Bank Ordered.
URL:https://www.auctionmasters.com/auctions/detail/bw151143
SEQUENCE:1
END:VEVENT
END:VCALENDAR