BEGIN:VCALENDAR
VERSION:2.0
PRODID:-//ExpressionEngine Easy iCalendar plugin//NONSGML v2.0.1//EN
X-WR-TIMEZONE:America/Chicago
X-WR-CALNAME:Upcoming Auctions
BEGIN:VEVENT
UID:151257
DTSTAMP:20251029T130000
DTSTART:20251029T130000
DTEND:20251106T130000
SUMMARY:2015 Freightliner Semi & 2008 Wabash 53' Trailer
LOCATION:19150 Territorial Road\, Maple Grove\, MN 55369\, US
DESCRIPTION:2015 Freightliner Cascadi Semi and 2008 Wabash 53' Trailer
URL:https://www.auctionmasters.com/auctions/detail/bw151257
SEQUENCE:1
END:VEVENT
END:VCALENDAR