BEGIN:VCALENDAR
VERSION:2.0
PRODID:-//ExpressionEngine Easy iCalendar plugin//NONSGML v2.0.1//EN
X-WR-TIMEZONE:America/Chicago
X-WR-CALNAME:Upcoming Auctions
BEGIN:VEVENT
UID:151381
DTSTAMP:20251104T180000
DTSTART:20251104T180000
DTEND:20251112T130000
SUMMARY:Printing/Bindery Equipment\, Material Handling & More
LOCATION:3769 Dunlap St N\, Arden Hills\, MN 55112\, US
DESCRIPTION:Printing/Bindery Equipment (Cutter\, Duplo System\, Plate Make
 r\, Copiers\, Press\, Laminator\, Folders)\, Material Handling (F
 orklift\, Pallet Racking/Shelving\, Carts)\, Office Furniture a
 nd More.
URL:https://www.auctionmasters.com/auctions/detail/bw151381
SEQUENCE:1
END:VEVENT
END:VCALENDAR