BEGIN:VCALENDAR
VERSION:2.0
PRODID:-//ExpressionEngine Easy iCalendar plugin//NONSGML v2.0.1//EN
X-WR-TIMEZONE:America/Chicago
X-WR-CALNAME:Upcoming Auctions
BEGIN:VEVENT
UID:151969
DTSTAMP:20251113T120000
DTSTART:20251113T120000
DTEND:20251119T130000
SUMMARY:Liquor Store Refrigeration\, Fixtures & Decor
LOCATION:4182 Pilot Knob Road\, Eagan\, MN 55122\, US
DESCRIPTION:Liquor Store: Refrigeration\, Retail Shelving/Displays\, Decor
 \, Signs\, Cardboard Baler and More.
URL:https://www.auctionmasters.com/auctions/detail/bw151969
SEQUENCE:1
END:VEVENT
END:VCALENDAR