BEGIN:VCALENDAR
VERSION:2.0
PRODID:-//ExpressionEngine Easy iCalendar plugin//NONSGML v2.0.1//EN
X-WR-TIMEZONE:America/Chicago
X-WR-CALNAME:Upcoming Auctions
BEGIN:VEVENT
UID:152255
DTSTAMP:20251118T120000
DTSTART:20251118T120000
DTEND:20251201T130000
SUMMARY:Psycho Suzi's Restaurant & Bar Surplus + A & W Nostalgia
LOCATION:3829 Jefferson St NE\, Minneapolis\, MN 55421\, US
DESCRIPTION:Psycho Suzi's Restaurant & Bar Surplus + Nostalgia: Decor/S
 igns\, Furniture\, Restaurant/Bar Smallwares\, Vintage A&W Sign
 s/Menus\, Speakers/DJ Lights\, Much More.
URL:https://www.auctionmasters.com/auctions/detail/bw152255
SEQUENCE:1
END:VEVENT
END:VCALENDAR