BEGIN:VCALENDAR
VERSION:2.0
PRODID:-//ExpressionEngine Easy iCalendar plugin//NONSGML v2.0.1//EN
X-WR-TIMEZONE:America/Chicago
X-WR-CALNAME:Upcoming Auctions
BEGIN:VEVENT
UID:152646
DTSTAMP:20251208T140000
DTSTART:20251208T140000
DTEND:20251217T130000
SUMMARY:Med Spa Equipment & Furnishings
LOCATION:19150 Territorial Road\, Maple Grove\, MN 55369\, US
DESCRIPTION:Bank Ordered Liquidation of Med Spa Equipment and Furnishing
 s: Coolsculpting Equipment and Accessories\, HydraFacial Equi
 pment\, Sciton Equipment\, Cryotherapy Equipment\, Procedure Ch
 airs/Beds\, Related Accessories and Supplies.
URL:https://www.auctionmasters.com/auctions/detail/bw152646
SEQUENCE:1
END:VEVENT
END:VCALENDAR