BEGIN:VCALENDAR
VERSION:2.0
PRODID:-//ExpressionEngine Easy iCalendar plugin//NONSGML v2.0.1//EN
X-WR-TIMEZONE:America/Chicago
X-WR-CALNAME:Upcoming Auctions
BEGIN:VEVENT
UID:153056
DTSTAMP:20251205T110000
DTSTART:20251205T110000
DTEND:20251222T130000
SUMMARY:Restaurant/Bar Equipment & Furnishings
LOCATION:264 E Lafayette Frontage Rd\, St Paul\, MN 55107\, US
DESCRIPTION:Restaurant/Bar Equipment and Furnishings: Furniture (Bar/Din
 ing/Patio)\, SS Underbar/Tables/Sinks\, Shelving\, Refrigeratio
 n\, Smallwares and More.
URL:https://www.auctionmasters.com/auctions/detail/bw153056
SEQUENCE:1
END:VEVENT
END:VCALENDAR