BEGIN:VCALENDAR
VERSION:2.0
PRODID:-//ExpressionEngine Easy iCalendar plugin//NONSGML v2.0.1//EN
X-WR-TIMEZONE:America/Chicago
X-WR-CALNAME:Upcoming Auctions
BEGIN:VEVENT
UID:153663
DTSTAMP:20251218T110000
DTSTART:20251218T110000
DTEND:20251229T130000
SUMMARY:New Mini Excavators\, Compact Equipment\, Golf Carts and More
LOCATION:19150 Territorial Road\, Maple Grove\, MN 55369\, US
DESCRIPTION:New Mini Excavators\, Compact Equipment\, Attachments\, Golf Ca
 rts\, Shipping Containers\, Massage Chairs and More.
URL:https://www.auctionmasters.com/auctions/detail/bw153663
SEQUENCE:1
END:VEVENT
END:VCALENDAR