BEGIN:VCALENDAR
VERSION:2.0
PRODID:-//ExpressionEngine Easy iCalendar plugin//NONSGML v2.0.1//EN
X-WR-TIMEZONE:America/Chicago
X-WR-CALNAME:Upcoming Auctions
BEGIN:VEVENT
UID:153666
DTSTAMP:20260105T100000
DTSTART:20260105T100000
DTEND:20260112T100000
SUMMARY:Multiple Restaurants Equipment & Furnishings
LOCATION:19150 Territorial Road\, Maple Grove\, MN 55369\, US
DESCRIPTION:Multiple Restaurants Equipment and Furnishings: Home Brewing
 /Distillery Equipment\, Kitchen Equipment\, Bakery Equipment\, 
 Slicers\, Mixers\, Refrigeration\, Make Up Air/Exhaust\, SS Tabl
 es/Sinks\, Shelving/Carts\, Audio/Video/POS\, Furniture\, Signs/
 Decor\, Smallwares and More.
URL:https://www.auctionmasters.com/auctions/detail/bw153666
SEQUENCE:1
END:VEVENT
END:VCALENDAR