BEGIN:VCALENDAR
VERSION:2.0
PRODID:-//ExpressionEngine Easy iCalendar plugin//NONSGML v2.0.1//EN
X-WR-TIMEZONE:America/Chicago
X-WR-CALNAME:Upcoming Auctions
BEGIN:VEVENT
UID:153668
DTSTAMP:20251216T110000
DTSTART:20251216T110000
DTEND:20251226T130000
SUMMARY:2024 Chevy Silverado with Plow\, 2023 Trailer and Hustler Mow
 er
LOCATION:19150 Territorial Road\, Maple Grove\, MN 55369\, US
DESCRIPTION:2024 Chevy Silverado Truck with Plow\, 2023 Enclosed Trailer 
 and Hustler Zero Turn Mower
URL:https://www.auctionmasters.com/auctions/detail/bw153668
SEQUENCE:1
END:VEVENT
END:VCALENDAR