BEGIN:VCALENDAR
VERSION:2.0
PRODID:-//ExpressionEngine Easy iCalendar plugin//NONSGML v2.0.1//EN
X-WR-TIMEZONE:America/Chicago
X-WR-CALNAME:Upcoming Auctions
BEGIN:VEVENT
UID:154075
DTSTAMP:20251223T140000
DTSTART:20251223T140000
DTEND:20260107T130000
SUMMARY:2019 Lexus LS500
LOCATION:19150 Territorial Road\, Maple Grove\, MN 55369\, US
DESCRIPTION:Bank Ordered - 2019 Lexus LS500
URL:https://www.auctionmasters.com/auctions/detail/bw154075
SEQUENCE:1
END:VEVENT
END:VCALENDAR