BEGIN:VCALENDAR
VERSION:2.0
PRODID:-//ExpressionEngine Easy iCalendar plugin//NONSGML v2.0.1//EN
X-WR-TIMEZONE:America/Chicago
X-WR-CALNAME:Upcoming Auctions
BEGIN:VEVENT
UID:154348
DTSTAMP:20251230T070000
DTSTART:20251230T070000
DTEND:20260107T130000
SUMMARY:Knife Collection
LOCATION:19150 Territorial Road\, Maple Grove\, MN 55369\, US
DESCRIPTION:Knife Collection: 100's of Knives\, Display Cases and More
URL:https://www.auctionmasters.com/auctions/detail/bw154348
SEQUENCE:1
END:VEVENT
END:VCALENDAR