BEGIN:VCALENDAR
VERSION:2.0
PRODID:-//ExpressionEngine Easy iCalendar plugin//NONSGML v2.0.1//EN
X-WR-TIMEZONE:America/Chicago
X-WR-CALNAME:Upcoming Auctions
BEGIN:VEVENT
UID:154405
DTSTAMP:20260106T130000
DTSTART:20260106T130000
DTEND:20260113T130000
SUMMARY:Burrito Loco Equipment & Furnishings
LOCATION:418 13th Ave SE\, Minneapolis\, MN 55414\, US
DESCRIPTION:Burrito Loco Equipment and Furnishings: Kitchen Equipment\, 
 Refrigeration\, Dining/Bar Furniture\, SS Tables/Sinks/Underba
 r\, Signs/Decor\, Shelving/Carts\, Smallwares\, TVs/Audio Equipm
 ent\, More.
URL:https://www.auctionmasters.com/auctions/detail/bw154405
SEQUENCE:1
END:VEVENT
END:VCALENDAR