BEGIN:VCALENDAR
VERSION:2.0
PRODID:-//ExpressionEngine Easy iCalendar plugin//NONSGML v2.0.1//EN
X-WR-TIMEZONE:America/Chicago
X-WR-CALNAME:Upcoming Auctions
BEGIN:VEVENT
UID:154531
DTSTAMP:20260106T140000
DTSTART:20260106T140000
DTEND:20260113T130000
SUMMARY:Salut Bar Americain Decor & Furniture
LOCATION:5034 France Ave S\, Edina\, MN 55410\, US
DESCRIPTION:Salut Bar Americain Decor and Furniture: Dining/Bar Furnitur
 e\, Backbar Coolers\, SS Underbar\, Framed Decor Pictures/Mirro
 rs\, Chandeliers\, More.
URL:https://www.auctionmasters.com/auctions/detail/bw154531
SEQUENCE:1
END:VEVENT
END:VCALENDAR