BEGIN:VCALENDAR
VERSION:2.0
PRODID:-//ExpressionEngine Easy iCalendar plugin//NONSGML v2.0.1//EN
X-WR-TIMEZONE:America/Chicago
X-WR-CALNAME:Upcoming Auctions
BEGIN:VEVENT
UID:154757
DTSTAMP:20260218T130000
DTSTART:20260218T130000
DTEND:20260224T100000
SUMMARY:Multiple Businesses: Tools\, Equipment & More
LOCATION:19150 Territorial Road\, Maple Grove\, MN 55369\, US
DESCRIPTION:Multiple Businesses: General Tools/Equipment\, NEW Ingersoll 
 Rand Air Compressor\, Generac Back Up Generator\, Industrial E
 quipment/Supplies\, Semi Trailer Parts Inventory\, Material Ha
 ndling\, Lawn/Garden\, Outdoor/Rec/Sporting Goods\, Building Ma
 terials\, Janitorial/Cleaning\, Electronics\, Home Goods and Mo
 re.
URL:https://www.auctionmasters.com/auctions/detail/bw154757
SEQUENCE:1
END:VEVENT
END:VCALENDAR