BEGIN:VCALENDAR
VERSION:2.0
PRODID:-//ExpressionEngine Easy iCalendar plugin//NONSGML v2.0.1//EN
X-WR-TIMEZONE:America/Chicago
X-WR-CALNAME:Upcoming Auctions
BEGIN:VEVENT
UID:157978
DTSTAMP:20260304T110000
DTSTART:20260304T110000
DTEND:20260316T130000
SUMMARY:Retail Refrigeration
LOCATION:1785 Radio Drive\, Woodbury\, MN 55125\, US
DESCRIPTION:Retail Refrigeration: Tyler 24' Open Top Freezer\, Zero Zone 
 Glass 3 Door Freezer\, Chest Freezer\, Upright Refrigerator.
URL:https://www.auctionmasters.com/auctions/detail/bw157978
SEQUENCE:1
END:VEVENT
END:VCALENDAR