BEGIN:VCALENDAR
VERSION:2.0
PRODID:-//ExpressionEngine Easy iCalendar plugin//NONSGML v2.0.1//EN
X-WR-TIMEZONE:America/Chicago
X-WR-CALNAME:Upcoming Auctions
BEGIN:VEVENT
UID:158060
DTSTAMP:20260306T070000
DTSTART:20260306T070000
DTEND:20260318T150000
SUMMARY:Snap Fitness Equipment
LOCATION:19150 Territorial Road\, Maple Grove\, MN 55369\, US
DESCRIPTION:Snap Fitness Equipment\, Weight Machines\, Cardio and More.  
 All items are located at Auction Masters.
URL:https://www.auctionmasters.com/auctions/detail/bw158060
SEQUENCE:1
END:VEVENT
END:VCALENDAR