BEGIN:VCALENDAR
VERSION:2.0
PRODID:-//ExpressionEngine Easy iCalendar plugin//NONSGML v2.0.0//EN
X-WR-TIMEZONE:America/Chicago
X-WR-CALNAME:Upcoming Auctions
BEGIN:VEVENT
UID:160230
DTSTAMP:20260420T100000
DTSTART:20260420T100000
DTEND:20260501T130000
SUMMARY:4 Playground Structures
LOCATION:7100 147th St W\, Apple Valley\, MN 55125\, US
DESCRIPTION:4 Playground Structures: Little Tikes Commercial and Landsc
 ape Structures.
URL:https://www.auctionmasters.com/auctions/detail/bw160230
SEQUENCE:1
END:VEVENT
END:VCALENDAR