BEGIN:VCALENDAR
VERSION:2.0
PRODID:-//ExpressionEngine Easy iCalendar plugin//NONSGML v2.0.0//EN
X-WR-TIMEZONE:America/Chicago
X-WR-CALNAME:Upcoming Auctions
BEGIN:VEVENT
UID:160798
DTSTAMP:20260501T180000
DTSTART:20260501T180000
DTEND:20260521T130000
SUMMARY:Snap Fitness Equipment Liquidation
LOCATION:16731 State Hwy 13\, Unit 111\, Prior Lake\, MN 55372\, US
DESCRIPTION:Snap Fitness Equipment Liquidation - More Info Coming.
URL:https://www.auctionmasters.com/auctions/detail/bw160798
SEQUENCE:1
END:VEVENT
END:VCALENDAR