BEGIN:VCALENDAR
VERSION:2.0
PRODID:-//ExpressionEngine Easy iCalendar plugin//NONSGML v2.0.0//EN
X-WR-TIMEZONE:America/Chicago
X-WR-CALNAME:Upcoming Auctions
BEGIN:VEVENT
UID:160854
DTSTAMP:20260421T110000
DTSTART:20260421T110000
DTEND:20260506T130000
SUMMARY:Medical Equipment
LOCATION:20017 172nd Street\, Big Lake\, MN 55309\, US
DESCRIPTION:Surplus Medical Equipment
URL:https://www.auctionmasters.com/auctions/detail/bw160854
SEQUENCE:1
END:VEVENT
END:VCALENDAR