BEGIN:VCALENDAR
VERSION:2.0
PRODID:-//ExpressionEngine Easy iCalendar plugin//NONSGML v2.0.1//EN
X-WR-TIMEZONE:America/Chicago
X-WR-CALNAME:Upcoming Auctions
BEGIN:VEVENT
UID:160998
DTSTAMP:20260519T180000
DTSTART:20260519T180000
DTEND:20260526T130000
SUMMARY:Auto Dealership Equipment & Furnishings
LOCATION:1701 American Blvd W\, Bloomington\, MN 55431\, US
DESCRIPTION:Auto Dealership Equipment & Furnishings - More Info Coming.
URL:https://www.auctionmasters.com/auctions/detail/bw160998
SEQUENCE:1
END:VEVENT
END:VCALENDAR