BEGIN:VCALENDAR
VERSION:2.0
PRODID:-//ExpressionEngine Easy iCalendar plugin//NONSGML v2.0.1//EN
X-WR-TIMEZONE:America/Chicago
X-WR-CALNAME:Upcoming Auctions
BEGIN:VEVENT
UID:94925
DTSTAMP:20230124T080000
DTSTART:20230124T080000
DTEND:20230206T130000
SUMMARY:Freshii Restaurant
LOCATION:444 Cedar Street #229\, St Paul\, MN 55101\, US
DESCRIPTION:Freshii Restaurant Equipment and Furnishings: Refrigeration 
 (Walk In/Prep Tables)\, Kitchen Equipment\, SS Tables/Sinks\, D
 ining Furniture\, Shelving\, Smallwares\, POS and More.
URL:https://www.auctionmasters.com/auctions/detail/bw94925
SEQUENCE:1
END:VEVENT
END:VCALENDAR